BEGIN:VCALENDAR
VERSION:2.0
PRODID:-//eventon.com NONSGML v1.0//EN
CALSCALE:GREGORIAN
METHOD:PUBLISH
BEGIN:VEVENT
UID:69e73d5ea490b
DTSTAMP:20260421T090326Z
DTSTART:20200429T140000Z
DTEND:20200429T235000Z
LOCATION:
SUMMARY:Silicon Interconnect Fabric – A Paradigm Shift in Heterogeneous Integration
DESCRIPTION:Postponed Modern applications include a variety of heterogeneou
 s circuit blocks. Diverse technologies\,  substrate and interconnect materi
 als\,  and processes are required to coexist within a single system. In add
 ition to heterogeneity\,  ultra‑large scale integration is necessary for 
 a variety of applications\,  e.g.\,  neuromorphic systems. Silicon interco
 nnect fabric (Si-IF)\,  a wafer scale heterogeneous[..]\nhttps://www.cmc.ca
 /events/silicon-interconnect-fabric-a-paradigm-shift-in-heterogeneous-integ
 ration/
URL:https://www.cmc.ca/events/silicon-interconnect-fabric-a-paradigm-shift-in-heterogeneous-integration/
END:VEVENT
END:VCALENDAR