BEGIN:VCALENDAR
VERSION:2.0
PRODID:-//eventon.com NONSGML v1.0//EN
CALSCALE:GREGORIAN
METHOD:PUBLISH
BEGIN:VEVENT
UID:69e73ba8c9bbf
DTSTAMP:20260421T085608Z
DTSTART:20201124T140000Z
DTEND:20201124T150000Z
LOCATION:
SUMMARY:Introduction to Quantum Engineering
DESCRIPTION:Nizar Messaoudi Quantum Technology promises to solve many intra
 ctable problems faced by society today\,  such as discovery of new drugs an
 d materials\,  ultra-precise sensors and un-hackable communications. For th
 ose unfamiliar with Quantum Engineering\,  this may seem like science-ficti
 on\,  but we are in the midst of the Quantum 2.0 technology revolution.[..]
 \nhttps://www.cmc.ca/events/introduction-to-quantum-engineering/
URL:https://www.cmc.ca/events/introduction-to-quantum-engineering/
END:VEVENT
END:VCALENDAR