BEGIN:VCALENDAR
VERSION:2.0
PRODID:-//eventon.com NONSGML v1.0//EN
CALSCALE:GREGORIAN
METHOD:PUBLISH
BEGIN:VEVENT
UID:69e739ca9f1ee
DTSTAMP:20260421T084810Z
DTSTART:20220620T150000Z
DTEND:20220708T213000Z
LOCATION:
SUMMARY:Virtual Workshop: Build Your Own Superconducting Quantum Device
DESCRIPTION:Virtual Workshop: Build Your Own Superconducting Quantum Device
 \nhttps://www.cmc.ca/events/virtual-workshop-build-your-own-superconducting
 -quantum-device/
URL:https://www.cmc.ca/events/virtual-workshop-build-your-own-superconducting-quantum-device/
END:VEVENT
END:VCALENDAR